BEGIN:VCALENDAR
VERSION:2.0
PRODID:-//dalumvin.dk - ECPv6.15.20//NONSGML v1.0//EN
CALSCALE:GREGORIAN
METHOD:PUBLISH
X-ORIGINAL-URL:https://dalumvin.dk
X-WR-CALDESC:Begivenheder for dalumvin.dk
REFRESH-INTERVAL;VALUE=DURATION:PT1H
X-Robots-Tag:noindex
X-PUBLISHED-TTL:PT1H
BEGIN:VTIMEZONE
TZID:Europe/Copenhagen
BEGIN:DAYLIGHT
TZOFFSETFROM:+0100
TZOFFSETTO:+0200
TZNAME:CEST
DTSTART:20250330T010000
END:DAYLIGHT
BEGIN:STANDARD
TZOFFSETFROM:+0200
TZOFFSETTO:+0100
TZNAME:CET
DTSTART:20251026T010000
END:STANDARD
BEGIN:DAYLIGHT
TZOFFSETFROM:+0100
TZOFFSETTO:+0200
TZNAME:CEST
DTSTART:20260329T010000
END:DAYLIGHT
BEGIN:STANDARD
TZOFFSETFROM:+0200
TZOFFSETTO:+0100
TZNAME:CET
DTSTART:20261025T010000
END:STANDARD
BEGIN:DAYLIGHT
TZOFFSETFROM:+0100
TZOFFSETTO:+0200
TZNAME:CEST
DTSTART:20270328T010000
END:DAYLIGHT
BEGIN:STANDARD
TZOFFSETFROM:+0200
TZOFFSETTO:+0100
TZNAME:CET
DTSTART:20271031T010000
END:STANDARD
END:VTIMEZONE
BEGIN:VEVENT
DTSTART;TZID=Europe/Copenhagen:20260513T180000
DTEND;TZID=Europe/Copenhagen:20260513T180000
DTSTAMP:20260425T160749
CREATED:20260413T075541Z
LAST-MODIFIED:20260420T084944Z
UID:1232-1778695200-1778695200@dalumvin.dk
SUMMARY:Sommerens vine
DESCRIPTION:Kom med til en hyggelig aften hvor vi tager forskud på sommeren☀️ \nVi skal smage et udvalg af frugtige vine der passer perfekt til når solen kommer frem. \nDu kan forvente frugtige hvidvine\, elegante roséer og let rødvin. Alle nøje udvalgt til sæsonen. \nUndervejs vil der blive fortalt om druerne\, producenterne alt sammen i et uformelt og afslappet miljø. \nder serveres brød & olivenolie til
URL:https://dalumvin.dk/event/sommerens-vine/
LOCATION:Dalum Vin / Holte Vinlager\, Dalumvej 3\, Odense\, Fyn\, 5250\, Denmark
CATEGORIES:Events,Smagning
ATTACH;FMTTYPE=image/jpeg:https://dalumvin.dk/wp-content/uploads/2026/04/Din-afsnitstekst-kopi.jpg
ORGANIZER;CN="Dalum Vin":MAILTO:odense@dalumvin.dk
END:VEVENT
BEGIN:VEVENT
DTSTART;TZID=Europe/Copenhagen:20260522T180000
DTEND;TZID=Europe/Copenhagen:20260522T180000
DTSTAMP:20260425T160749
CREATED:20260413T075414Z
LAST-MODIFIED:20260420T084805Z
UID:1229-1779472800-1779472800@dalumvin.dk
SUMMARY:Andersen Winery
DESCRIPTION:Andersen Winery er et unikt dansk vineri\, der har specialiseret sig i mousserende vine lavet på nordiske frugter og bær frem for druer. \nDe er Michelinberømte for deres bobler. \nAndersen Winery kombinerer vineriet traditionelle metoder fra klassisk vinproduktion med innovative\, lokale råvarer. \nHos Andersen Winery arbejdes der med alt fra æbler og pærer til ribs\, stikkelsbær og kirsebær\, hvilket giver vinene en frisk\, aromatisk og ofte overraskende kompleks smagsprofil. Produktionen foregår efter samme principper som champagne – med andengæring på flaske – hvilket resulterer i elegante bobler og en fin balance mellem syre og sødme. \nVinene er kendetegnet ved deres rene\, nordiske udtryk: sprøde\, friske og med en tydelig karakter af de frugter\, de er lavet på. De egner sig både som aperitif og som spændende ledsager til mad – især det nordiske køkken. \nSå du kan ikke bare se frem til en smagsoplevelse men også en introduktion til en nyfortolkning af vin. \nLet tapas inkluderet
URL:https://dalumvin.dk/event/andersen-winery/
LOCATION:Dalum Vin / Holte Vinlager\, Dalumvej 3\, Odense\, Fyn\, 5250\, Denmark
CATEGORIES:Events,Smagning
ATTACH;FMTTYPE=image/jpeg:https://dalumvin.dk/wp-content/uploads/2026/04/DOME.jpg
ORGANIZER;CN="Dalum Vin":MAILTO:odense@dalumvin.dk
END:VEVENT
BEGIN:VEVENT
DTSTART;TZID=Europe/Copenhagen:20260528T183000
DTEND;TZID=Europe/Copenhagen:20260528T183000
DTSTAMP:20260425T160749
CREATED:20260413T075114Z
LAST-MODIFIED:20260413T075114Z
UID:1223-1779993000-1779993000@dalumvin.dk
SUMMARY:Portvin
DESCRIPTION:
URL:https://dalumvin.dk/event/portvin/
LOCATION:Dalum Vin / Holte Vinlager\, Dalumvej 3\, Odense\, Fyn\, 5250\, Denmark
CATEGORIES:Events,Smagning
ORGANIZER;CN="Dalum Vin":MAILTO:odense@dalumvin.dk
END:VEVENT
BEGIN:VEVENT
DTSTART;TZID=Europe/Copenhagen:20260611T183000
DTEND;TZID=Europe/Copenhagen:20260611T183000
DTSTAMP:20260425T160749
CREATED:20260413T075255Z
LAST-MODIFIED:20260420T194506Z
UID:1226-1781202600-1781202600@dalumvin.dk
SUMMARY:Champagne smagning
DESCRIPTION:En aften med champagne.\nVi skal på en lille rundrejse i Champagne.\nSøren har besøgt 4 af vores champagne huse og fundet nogle klassiske bobler\, men også nogle specialiteter – vintage m.m. Der er både fra det store Venoge hus og fra små familieproducenter\nFå historien om husene og deres vine og smag nogle fantastiske dråber.
URL:https://dalumvin.dk/event/champagne-smagning/
LOCATION:Dalum Vin / Holte Vinlager\, Dalumvej 3\, Odense\, Fyn\, 5250\, Denmark
CATEGORIES:Events,Smagning
ATTACH;FMTTYPE=image/jpeg:https://dalumvin.dk/wp-content/uploads/2026/04/Champagne-Smagning.jpg
ORGANIZER;CN="Dalum Vin":MAILTO:odense@dalumvin.dk
END:VEVENT
BEGIN:VEVENT
DTSTART;TZID=Europe/Copenhagen:20260619T180000
DTEND;TZID=Europe/Copenhagen:20260619T180000
DTSTAMP:20260425T160749
CREATED:20260413T074904Z
LAST-MODIFIED:20260420T085320Z
UID:1220-1781892000-1781892000@dalumvin.dk
SUMMARY:Verdens Vine
DESCRIPTION:
URL:https://dalumvin.dk/event/verdens-vine/
LOCATION:Dalum Vin / Holte Vinlager\, Dalumvej 3\, Odense\, Fyn\, 5250\, Denmark
CATEGORIES:Events,Smagning
ATTACH;FMTTYPE=image/jpeg:https://dalumvin.dk/wp-content/uploads/2026/04/Verdens-vine-smagning-1.jpg
ORGANIZER;CN="Dalum Vin":MAILTO:odense@dalumvin.dk
END:VEVENT
END:VCALENDAR